BEGIN:VCALENDAR
VERSION:2.0
PRODID:-//Kankali Secondary School, Chandragiri, Kathmandu - ECPv6.5.1.4//NONSGML v1.0//EN
CALSCALE:GREGORIAN
METHOD:PUBLISH
X-WR-CALNAME:Kankali Secondary School, Chandragiri, Kathmandu
X-ORIGINAL-URL:https://kankalischool.edu.np
X-WR-CALDESC:Events for Kankali Secondary School, Chandragiri, Kathmandu
REFRESH-INTERVAL;VALUE=DURATION:PT1H
X-Robots-Tag:noindex
X-PUBLISHED-TTL:PT1H
BEGIN:VTIMEZONE
TZID:UTC
BEGIN:STANDARD
TZOFFSETFROM:+0000
TZOFFSETTO:+0000
TZNAME:UTC
DTSTART:20240101T000000
END:STANDARD
END:VTIMEZONE
BEGIN:VEVENT
DTSTART;TZID=UTC:20240630T080000
DTEND;TZID=UTC:20240705T170000
DTSTAMP:20260419T183848
CREATED:20240626T062656Z
LAST-MODIFIED:20240627T101640Z
UID:3224-1719734400-1720198800@kankalischool.edu.np
SUMMARY:2nd Unit Test (Nur-Class 10)
DESCRIPTION:
URL:https://kankalischool.edu.np/event/2nd-unit-test-nur-class-10/
LOCATION:Kankali Secondary School\, Chandragiri-13\, Kathmandu\, Bagmati\, Nepal
CATEGORIES:School Calender 2081
ORGANIZER;CN="Kankali Secondary School":MAILTO:kankali2019@gmail.com
END:VEVENT
BEGIN:VEVENT
DTSTART;TZID=UTC:20240630T080000
DTEND;TZID=UTC:20240705T170000
DTSTAMP:20260419T183848
CREATED:20240626T062839Z
LAST-MODIFIED:20240627T063009Z
UID:3226-1719734400-1720198800@kankalischool.edu.np
SUMMARY:Admission for Grade XII (Technical Stream)
DESCRIPTION:Admission for Grade XII (Technical Stream)
URL:https://kankalischool.edu.np/event/admission-for-grade-xii-technical-stream/
LOCATION:Kankali Secondary School\, Chandragiri-13\, Kathmandu\, Bagmati\, Nepal
CATEGORIES:School Calender 2081
ORGANIZER;CN="Kankali Secondary School":MAILTO:kankali2019@gmail.com
END:VEVENT
END:VCALENDAR